BEGIN:VCALENDAR
VERSION:2.0
PRODID:-//Tukios.com/
BEGIN:VEVENT
UID:82368077-b4b2-4a4e-b6d9-33a9bd23d68c@www.stahlfuneralhome.com
DTSTAMP:20260424T225626Z
DTSTART:20260502T170000Z
DTEND:20260502T180000Z
SUMMARY:Memorial Service
DESCRIPTION:
URL:https://www.stahlfuneralhome.com/obituaries/beverly-pike
LOCATION: W7452 WI-21  Wautoma WI 54982
GEO:44.063462;-89.2547188
END:VEVENT
END:VCALENDAR