BEGIN:VCALENDAR
VERSION:2.0
PRODID:-//Tukios.com/
BEGIN:VEVENT
UID:f9b4ab01-f702-48b3-b1b5-0a59a61ba1b3@www.stahlfuneralhome.com
DTSTAMP:20260424T230003Z
DTSTART:20260502T150000Z
DTEND:20260502T170000Z
SUMMARY:Visitation
DESCRIPTION:
URL:https://www.stahlfuneralhome.com/obituaries/beverly-pike
LOCATION: W7452 WI-21  Wautoma WI 54982
GEO:44.063462;-89.2547188
END:VEVENT
END:VCALENDAR